BEGIN:VCALENDAR
VERSION:2.0
PRODID:-//Love Church Staging - ECPv6.8.3//NONSGML v1.0//EN
CALSCALE:GREGORIAN
METHOD:PUBLISH
X-WR-CALNAME:Love Church Staging
X-ORIGINAL-URL:https://lovechurchtn.com
X-WR-CALDESC:Events for Love Church Staging
REFRESH-INTERVAL;VALUE=DURATION:PT1H
X-Robots-Tag:noindex
X-PUBLISHED-TTL:PT1H
BEGIN:VTIMEZONE
TZID:UTC
BEGIN:STANDARD
TZOFFSETFROM:+0000
TZOFFSETTO:+0000
TZNAME:UTC
DTSTART:20240101T000000
END:STANDARD
END:VTIMEZONE
BEGIN:VEVENT
DTSTART;VALUE=DATE:20241003
DTEND;VALUE=DATE:20241201
DTSTAMP:20260420T033710
CREATED:20241003T190124Z
LAST-MODIFIED:20241003T193130Z
UID:2377-1727913600-1733011199@lovechurchtn.com
SUMMARY:Hurricane Helene Relief
DESCRIPTION:All proceeds donated to the “Hurricane Flood Relief” will go directly to families in the Tri-Cities area who are in need at this time. Click “Visit Event Website” to give.
URL:https://lovechurchtn.com/event/donate-to-families-in-need-after-hurricane-helene/
CATEGORIES:Discipleship,Outreach
ATTACH;FMTTYPE=image/jpeg:https://lovechurchtn.com/wp-content/uploads/2024/10/Hurricane-Relief-1.jpg
END:VEVENT
BEGIN:VEVENT
DTSTART;TZID=UTC:20241003T180000
DTEND;TZID=UTC:20241003T200000
DTSTAMP:20260420T033710
CREATED:20241003T185043Z
LAST-MODIFIED:20241003T185811Z
UID:2372-1727978400-1727985600@lovechurchtn.com
SUMMARY:United in Prayer
DESCRIPTION:Join us every Thursday at 6pm as we pray together. All ages are welcome. \n  \n 
URL:https://lovechurchtn.com/event/united-in-prayer/
CATEGORIES:Discipleship,Outreach
ATTACH;FMTTYPE=image/jpeg:https://lovechurchtn.com/wp-content/uploads/2024/10/united-in-prayer.jpg
END:VEVENT
BEGIN:VEVENT
DTSTART;TZID=UTC:20241006T090000
DTEND;TZID=UTC:20241006T103000
DTSTAMP:20260420T033710
CREATED:20240629T161921Z
LAST-MODIFIED:20241003T191454Z
UID:2322-1728205200-1728210600@lovechurchtn.com
SUMMARY:Sunday Breakfast
DESCRIPTION:Join us every Sunday at 1109 Old Gray Station Rd for free breakfast and prayer at 9am. \nWe can’t wait to fellowship with you before we worship together and bring our hearts around the Word of God!
URL:https://lovechurchtn.com/event/sunday-breakfast/
CATEGORIES:Outreach
ATTACH;FMTTYPE=image/jpeg:https://lovechurchtn.com/wp-content/uploads/2024/06/Family-Breakfast-Slide.jpg
END:VEVENT
END:VCALENDAR