BEGIN:VCALENDAR
VERSION:2.0
PRODID:-//Love Church Staging - ECPv6.8.3//NONSGML v1.0//EN
CALSCALE:GREGORIAN
METHOD:PUBLISH
X-WR-CALNAME:Love Church Staging
X-ORIGINAL-URL:https://lovechurchtn.com
X-WR-CALDESC:Events for Love Church Staging
REFRESH-INTERVAL;VALUE=DURATION:PT1H
X-Robots-Tag:noindex
X-PUBLISHED-TTL:PT1H
BEGIN:VTIMEZONE
TZID:UTC
BEGIN:STANDARD
TZOFFSETFROM:+0000
TZOFFSETTO:+0000
TZNAME:UTC
DTSTART:20240101T000000
END:STANDARD
END:VTIMEZONE
BEGIN:VEVENT
DTSTART;TZID=UTC:20240825T190000
DTEND;TZID=UTC:20240831T210000
DTSTAMP:20260420T070332
CREATED:20240802T220959Z
LAST-MODIFIED:20240803T231801Z
UID:2341-1724612400-1725138000@lovechurchtn.com
SUMMARY:Make Us One Tri-Cities Revival
DESCRIPTION:It’s time for the Church to join together in strength. Join us every night from August 25th through August 31st in Bristol.
URL:https://lovechurchtn.com/event/make-us-one-tri-cities-revival/
LOCATION:501 5th Street\, 501 5th Street\, Bristol\, TN\, United States
CATEGORIES:Outreach
ATTACH;FMTTYPE=image/jpeg:https://lovechurchtn.com/wp-content/uploads/2024/08/Make-Us-One-1.jpg
END:VEVENT
END:VCALENDAR